BEGIN:VCALENDAR
VERSION:2.0
PRODID:-//ChamberMaster//Event Calendar 2.0//EN
METHOD:PUBLISH
X-PUBLISHED-TTL:P3D
REFRESH-INTERVAL:P3D
CALSCALE:GREGORIAN
BEGIN:VEVENT
DTSTART:20260521T213000Z
DTEND:20260521T230000Z
X-MICROSOFT-CDO-ALLDAYEVENT:FALSE
SUMMARY:Business After Hours: Donny's Propane Gas
DESCRIPTION:Join us for an evening of networking and connection at our Business After Hours\, hosted by Donny's Propane Gas! This is a great opportunity to build relationships with fellow Chamber members\, meet local professionals\, and learn more about one of our valued businesses in the community.\n\nEnjoy a relaxed atmosphere with refreshments\, engaging conversations\, and the chance to expand your network. Whether you're a longtime member or new to the Chamber\, this event is the perfect way to connect and grow your business.\n\nWe look forward to seeing you there!
X-ALT-DESC;FMTTYPE=text/html:<p data-end="335" data-start="50">Join us for an evening of networking and connection at our Business After Hours\, hosted by Donny&#39\;s Propane Gas! This is a great opportunity to build relationships with fellow Chamber members\, meet local professionals\, and learn more about one of our valued businesses in the community.</p>\n\n<p data-end="566" data-start="337">Enjoy a relaxed atmosphere with refreshments\, engaging conversations\, and the chance to expand your network. Whether you&#39\;re a longtime member or new to the Chamber\, this event is the perfect way to connect and grow your business.</p>\n\n<p data-end="604" data-is-last-node="" data-is-only-node="" data-start="568">We look forward to seeing you there!</p>\n
LOCATION:Donny's Propane Gas 6931 US-41\, Ste A Macon\, GA 31210
UID:e.126.15853
SEQUENCE:3
DTSTAMP:20260421T003805Z
URL:https://www.forsyth-monroechamber.com/events/details/business-after-hours-donny-s-propane-gas-15853
END:VEVENT

END:VCALENDAR
