BEGIN:VCALENDAR
VERSION:2.0
PRODID:-//ChamberMaster//Event Calendar 2.0//EN
METHOD:PUBLISH
X-PUBLISHED-TTL:P3D
REFRESH-INTERVAL:P3D
CALSCALE:GREGORIAN
BEGIN:VEVENT
DTSTART;VALUE=DATE:20260508
DTEND;VALUE=DATE:20260509
TRANSP:TRANSPARENT
X-MICROSOFT-CDO-ALLDAYEVENT:TRUE
SUMMARY:Rising Star
DESCRIPTION:Sponsor a Rising Star!  \n\nThe Forsyth-Monroe Chamber Foundation invites YOU to make a difference by sponsoring a 6th\, 7th\, or 8th grade student at Monroe County Middle School for our Rising Star Recognition Program!\n\nThis special event celebrates students who have achieved straight A's throughout the school year an incredible accomplishment that deserves to be recognized. By becoming a sponsor\, you're not only honoring their hard work and dedication\, but also encouraging them to keep striving for excellence.\n\nThese bright students are the future of Monroe County\, and your support helps us celebrate their success in a meaningful way. Join us in uplifting and inspiring the next generation of leaders!\n\n  Be a part of something special become a Rising Star sponsor today!
X-ALT-DESC;FMTTYPE=text/html:<p class="isSelectedEnd">&#127775\; Sponsor a Rising Star! &#127775\;</p>\n\n<p class="isSelectedEnd">The Forsyth-Monroe Chamber Foundation invites YOU to make a difference by sponsoring a 6th\, 7th\, or 8th grade student at Monroe County Middle School for our Rising Star Recognition Program!</p>\n\n<p class="isSelectedEnd">This special event celebrates students who have achieved straight A&rsquo\;s throughout the school year&mdash\;an incredible accomplishment that deserves to be recognized. By becoming a sponsor\, you&rsquo\;re not only honoring their hard work and dedication\, but also encouraging them to keep striving for excellence.</p>\n\n<p class="isSelectedEnd">These bright students are the future of Monroe County\, and your support helps us celebrate their success in a meaningful way. Join us in uplifting and inspiring the next generation of leaders!</p>\n\n<p>&#10024\; Be a part of something special&mdash\;become a Rising Star sponsor today!</p>\n
LOCATION:-
UID:e.126.15852
SEQUENCE:3
DTSTAMP:20260420T173337Z
URL:https://www.forsyth-monroechamber.com/events/details/rising-star-15852
END:VEVENT

END:VCALENDAR
